BEGIN:VCALENDAR
VERSION:2.0
PRODID:-//Cornerstone Dressage - ECPv6.1.3//NONSGML v1.0//EN
CALSCALE:GREGORIAN
METHOD:PUBLISH
X-WR-CALNAME:Cornerstone Dressage
X-ORIGINAL-URL:https://cornerstonedressage.com
X-WR-CALDESC:Events for Cornerstone Dressage
REFRESH-INTERVAL;VALUE=DURATION:PT1H
X-Robots-Tag:noindex
X-PUBLISHED-TTL:PT1H
BEGIN:VTIMEZONE
TZID:UTC
BEGIN:STANDARD
TZOFFSETFROM:+0000
TZOFFSETTO:+0000
TZNAME:UTC
DTSTART:20240101T000000
END:STANDARD
END:VTIMEZONE
BEGIN:VEVENT
DTSTART;VALUE=DATE:20240823
DTEND;VALUE=DATE:20240825
DTSTAMP:20260423T195919
CREATED:20231029T181359Z
LAST-MODIFIED:20250712T132324Z
UID:1267-1724371200-1724543999@cornerstonedressage.com
SUMMARY:Cool August Nights I (Friday Aug 23rd)
DESCRIPTION:PRIZE LIST | STABLING CHART | HOTEL | FILLABLE ENTRY | USEF WAIVER | USEF VACCINATION FORM |HEALTH INFORMATION  |TEMPERATURE CHART | ONLINE ENTRY | RIDE TIMES – FRI
URL:https://cornerstonedressage.com/event/cool-august-nights-2/
LOCATION:Los Angeles Equestrian Center\, 480 West Riverside Drive\, Burbank\, CA\, 91506\, United States
END:VEVENT
BEGIN:VEVENT
DTSTART;VALUE=DATE:20240824
DTEND;VALUE=DATE:20240825
DTSTAMP:20260423T195919
CREATED:20240720T143450Z
LAST-MODIFIED:20240822T194555Z
UID:1431-1724457600-1724543999@cornerstonedressage.com
SUMMARY:Cool August Nights II (Saturday August 24th)
DESCRIPTION:PRIZE LIST | STABLING CHART | HOTEL | FILLABLE ENTRY | USEF VACCINATION FORM |HEALTH INFORMATION  |TEMPERATURE CHART | ONLINE ENTRY | RIDE TIMES – SAT
URL:https://cornerstonedressage.com/event/cool-august-nights-ii-saturday-august-24th/
LOCATION:Los Angeles Equestrian Center\, 480 West Riverside Drive\, Burbank\, CA\, 91506\, United States
ORGANIZER;CN="Cornerstone%20Events":MAILTO:glenda@glenroys.com
END:VEVENT
END:VCALENDAR