BEGIN:VCALENDAR
VERSION:2.0
PRODID:-//Cornerstone Dressage - ECPv6.1.3//NONSGML v1.0//EN
CALSCALE:GREGORIAN
METHOD:PUBLISH
X-WR-CALNAME:Cornerstone Dressage
X-ORIGINAL-URL:https://cornerstonedressage.com
X-WR-CALDESC:Events for Cornerstone Dressage
REFRESH-INTERVAL;VALUE=DURATION:PT1H
X-Robots-Tag:noindex
X-PUBLISHED-TTL:PT1H
BEGIN:VTIMEZONE
TZID:UTC
BEGIN:STANDARD
TZOFFSETFROM:+0000
TZOFFSETTO:+0000
TZNAME:UTC
DTSTART:20250101T000000
END:STANDARD
END:VTIMEZONE
BEGIN:VEVENT
DTSTART;VALUE=DATE:20250523
DTEND;VALUE=DATE:20250526
DTSTAMP:20260423T045102
CREATED:20241004T230032Z
LAST-MODIFIED:20250523T211149Z
UID:1456-1747958400-1748217599@cornerstonedressage.com
SUMMARY:DRESSAGE AT FLINTRIDGE
DESCRIPTION:PRIZE LIST | FILLABLE ENTRY | USEF WAIVER | FLINTRDGE FACILITY WAIVER  | FLINTRIDGE CREDIT CARD FORM  | USEF VACCINATION FORM |TEMPERATURE CHART | RIDE TIMES – FRIDAY | RIDE TIMES – SAT  RIDE TIMES – SUN | RIDER SCHEDULE | SHOW PROGRAM
URL:https://cornerstonedressage.com/event/dressage-at-flintridge-2/
LOCATION:Flintridge Riding Club\, La Canada Flintridge\, 4625 Oak Grove Dr\, La Cañada Flintridge\, CA\, 91101\, United States
ORGANIZER;CN="Cornerstone%20Events":MAILTO:glenda@glenroys.com
END:VEVENT
END:VCALENDAR